BEGIN:VCALENDAR
VERSION:2.0
PRODID:-//LiteWork Events | Boston - ECPv6.15.17.1//NONSGML v1.0//EN
CALSCALE:GREGORIAN
METHOD:PUBLISH
X-WR-CALNAME:LiteWork Events | Boston
X-ORIGINAL-URL:https://liteworkevents.com
X-WR-CALDESC:Events for LiteWork Events | Boston
REFRESH-INTERVAL;VALUE=DURATION:PT1H
X-Robots-Tag:noindex
X-PUBLISHED-TTL:PT1H
BEGIN:VTIMEZONE
TZID:America/New_York
BEGIN:DAYLIGHT
TZOFFSETFROM:-0500
TZOFFSETTO:-0400
TZNAME:EDT
DTSTART:20230312T070000
END:DAYLIGHT
BEGIN:STANDARD
TZOFFSETFROM:-0400
TZOFFSETTO:-0500
TZNAME:EST
DTSTART:20231105T060000
END:STANDARD
BEGIN:DAYLIGHT
TZOFFSETFROM:-0500
TZOFFSETTO:-0400
TZNAME:EDT
DTSTART:20240310T070000
END:DAYLIGHT
BEGIN:STANDARD
TZOFFSETFROM:-0400
TZOFFSETTO:-0500
TZNAME:EST
DTSTART:20241103T060000
END:STANDARD
BEGIN:DAYLIGHT
TZOFFSETFROM:-0500
TZOFFSETTO:-0400
TZNAME:EDT
DTSTART:20250309T070000
END:DAYLIGHT
BEGIN:STANDARD
TZOFFSETFROM:-0400
TZOFFSETTO:-0500
TZNAME:EST
DTSTART:20251102T060000
END:STANDARD
END:VTIMEZONE
BEGIN:VEVENT
DTSTART;TZID=America/New_York:20240502T080000
DTEND;TZID=America/New_York:20240504T170000
DTSTAMP:20260422T191529
CREATED:20240325T045439Z
LAST-MODIFIED:20240325T045459Z
UID:10005806-1714636800-1714842000@liteworkevents.com
SUMMARY:Alvin Ailey American Dance Theater
DESCRIPTION:An Ailey performance is always a special experience. From the moment the house lights dim until the jubilant curtain calls at the end of Revelations\, a performance by the “phenomenal” and “electrifying” (TV host Tamron Hall) dancers of Alvin Ailey American Dance Theater will excite you\, inspire you\, and uplift you. \nDance Magazine wrote\, “the Ailey brand has remained synonymous with authenticity\, artistic integrity\, inclusive storytelling and culture of the highest quality” for decades. \nIn what has become a beloved spring tradition\, the company returns to Boston with classic works by Mr. Ailey\, notable selections by other modern and contemporary choreographers\, and new commissions that carry forward the founder’s and the company’s legacy and depict the many facets of Black American life\, culture\, and history. \nThursday\, May 2 through Saturday\, May 4
URL:https://liteworkevents.com/event/alvin-ailey-american-dance-theater-2/
LOCATION:Boch Center Wang Theatre\, 270 Tremont Street\, Boston\, MA\, 02116\, United States
ATTACH;FMTTYPE=image/png:https://liteworkevents.com/wp-content/uploads/2024/03/Alvin-Ailey_5.2.2024.png
END:VEVENT
BEGIN:VEVENT
DTSTART;TZID=America/New_York:20240503T190000
DTEND;TZID=America/New_York:20240504T190000
DTSTAMP:20260422T191529
CREATED:20240325T054947Z
LAST-MODIFIED:20240325T054948Z
UID:10005814-1714762800-1714849200@liteworkevents.com
SUMMARY:Vibe Dining Fridays at HUE
DESCRIPTION:#HUEKNOWTHEVIBE \nFeaturing DJ Saucy King each and every Friday. \nFor reservations\, visit: https://www.opentable.com/r/hue-boston
URL:https://liteworkevents.com/event/vibe-dining-fridays-at-hue/2024-05-03/
LOCATION:Hue Boston\, 90 Exeter Street\, Boston\, MA\, United States
ATTACH;FMTTYPE=image/jpeg:https://liteworkevents.com/wp-content/uploads/2024/03/Vibe-Dining-Fridays-at-HUE-Boston.jpg
END:VEVENT
BEGIN:VEVENT
DTSTART;TZID=America/New_York:20240510T190000
DTEND;TZID=America/New_York:20240511T190000
DTSTAMP:20260422T191529
CREATED:20240325T054947Z
LAST-MODIFIED:20240325T054948Z
UID:10005815-1715367600-1715454000@liteworkevents.com
SUMMARY:Vibe Dining Fridays at HUE
DESCRIPTION:#HUEKNOWTHEVIBE \nFeaturing DJ Saucy King each and every Friday. \nFor reservations\, visit: https://www.opentable.com/r/hue-boston
URL:https://liteworkevents.com/event/vibe-dining-fridays-at-hue/2024-05-10/
LOCATION:Hue Boston\, 90 Exeter Street\, Boston\, MA\, United States
ATTACH;FMTTYPE=image/jpeg:https://liteworkevents.com/wp-content/uploads/2024/03/Vibe-Dining-Fridays-at-HUE-Boston.jpg
END:VEVENT
BEGIN:VEVENT
DTSTART;TZID=America/New_York:20240517T190000
DTEND;TZID=America/New_York:20240518T190000
DTSTAMP:20260422T191529
CREATED:20240325T054947Z
LAST-MODIFIED:20240325T054948Z
UID:10005816-1715972400-1716058800@liteworkevents.com
SUMMARY:Vibe Dining Fridays at HUE
DESCRIPTION:#HUEKNOWTHEVIBE \nFeaturing DJ Saucy King each and every Friday. \nFor reservations\, visit: https://www.opentable.com/r/hue-boston
URL:https://liteworkevents.com/event/vibe-dining-fridays-at-hue/2024-05-17/
LOCATION:Hue Boston\, 90 Exeter Street\, Boston\, MA\, United States
ATTACH;FMTTYPE=image/jpeg:https://liteworkevents.com/wp-content/uploads/2024/03/Vibe-Dining-Fridays-at-HUE-Boston.jpg
END:VEVENT
BEGIN:VEVENT
DTSTART;TZID=America/New_York:20240524T173000
DTEND;TZID=America/New_York:20240524T203000
DTSTAMP:20260422T191529
CREATED:20240325T034955Z
LAST-MODIFIED:20240325T050001Z
UID:10005432-1716571800-1716582600@liteworkevents.com
SUMMARY:Haitian Cultural Night at the Boston Red Sox
DESCRIPTION:Join the Boston Red Sox\, Boston City Council President Ruthzee Louijeune\, and Haitian Americans United in celebrating Haitian Heritage Month at Fenway Park on Friday\, May 24th! Show your Haitian pride and support as we honor the rich history\, culture\, and contributions of the Haitian-American community. \nDid you know that Haiti is the first free Black republic in the world\, the first independent state in the Caribbean\, the second independent state in the Western Hemisphere after the United States\, and the only country founded from a slave revolt? Boston is proud to be home to the third-largest population of Haitian immigrants in the nation. The Haitian community contributions mightily to the economic prosperity of our city in the healthcare field\, our schools\, transportation\, and so many other areas. \nTicket holders who purchase tickets through this special offer will receive a Red Sox Haitian Celebration jersey\, available in sizes Adult Small to XL on a first-come\, first-served basis. Don’t miss out on this unique opportunity to represent your heritage! \nAs May is recognized as Haitian Heritage Month\, culminating with the celebration of Haitian Flag Day on May 18th\, the jerseys for purchase will proudly feature the iconic colors and symbol of the Haitian flag\, serving as a symbol of unity and pride for the Haitian-American community. \nArrive early to enjoy vibrant cultural performances that showcase the diversity and spirit of Haiti. In addition to the exciting festivities\, delicious Haitian food will also be available. Let’s come together to celebrate and honor the legacy of Haitian-Americans at Fenway Park!
URL:https://liteworkevents.com/event/haitian-cultural-night-at-the-boston-red-sox/
LOCATION:Fenway Park\, 4 Jersey Street\, Boston\, MA\, 02115\, United States
ATTACH;FMTTYPE=image/png:https://liteworkevents.com/wp-content/uploads/2024/03/Red-Sox-Haitian-Cultural-Night_5.24.2024.png
END:VEVENT
BEGIN:VEVENT
DTSTART;TZID=America/New_York:20240524T190000
DTEND;TZID=America/New_York:20240525T190000
DTSTAMP:20260422T191529
CREATED:20240325T054947Z
LAST-MODIFIED:20240325T054948Z
UID:10005817-1716577200-1716663600@liteworkevents.com
SUMMARY:Vibe Dining Fridays at HUE
DESCRIPTION:#HUEKNOWTHEVIBE \nFeaturing DJ Saucy King each and every Friday. \nFor reservations\, visit: https://www.opentable.com/r/hue-boston
URL:https://liteworkevents.com/event/vibe-dining-fridays-at-hue/2024-05-24/
LOCATION:Hue Boston\, 90 Exeter Street\, Boston\, MA\, United States
ATTACH;FMTTYPE=image/jpeg:https://liteworkevents.com/wp-content/uploads/2024/03/Vibe-Dining-Fridays-at-HUE-Boston.jpg
END:VEVENT
BEGIN:VEVENT
DTSTART;TZID=America/New_York:20240531T190000
DTEND;TZID=America/New_York:20240601T190000
DTSTAMP:20260422T191529
CREATED:20240325T054947Z
LAST-MODIFIED:20240325T054948Z
UID:10005818-1717182000-1717268400@liteworkevents.com
SUMMARY:Vibe Dining Fridays at HUE
DESCRIPTION:#HUEKNOWTHEVIBE \nFeaturing DJ Saucy King each and every Friday. \nFor reservations\, visit: https://www.opentable.com/r/hue-boston
URL:https://liteworkevents.com/event/vibe-dining-fridays-at-hue/2024-05-31/
LOCATION:Hue Boston\, 90 Exeter Street\, Boston\, MA\, United States
ATTACH;FMTTYPE=image/jpeg:https://liteworkevents.com/wp-content/uploads/2024/03/Vibe-Dining-Fridays-at-HUE-Boston.jpg
END:VEVENT
END:VCALENDAR