BEGIN:VCALENDAR
VERSION:2.0
PRODID:-//LiteWork Events | Boston - ECPv6.15.17.1//NONSGML v1.0//EN
CALSCALE:GREGORIAN
METHOD:PUBLISH
X-ORIGINAL-URL:https://liteworkevents.com
X-WR-CALDESC:Events for LiteWork Events | Boston
REFRESH-INTERVAL;VALUE=DURATION:PT1H
X-Robots-Tag:noindex
X-PUBLISHED-TTL:PT1H
BEGIN:VTIMEZONE
TZID:America/New_York
BEGIN:DAYLIGHT
TZOFFSETFROM:-0500
TZOFFSETTO:-0400
TZNAME:EDT
DTSTART:20220313T070000
END:DAYLIGHT
BEGIN:STANDARD
TZOFFSETFROM:-0400
TZOFFSETTO:-0500
TZNAME:EST
DTSTART:20221106T060000
END:STANDARD
BEGIN:DAYLIGHT
TZOFFSETFROM:-0500
TZOFFSETTO:-0400
TZNAME:EDT
DTSTART:20230312T070000
END:DAYLIGHT
BEGIN:STANDARD
TZOFFSETFROM:-0400
TZOFFSETTO:-0500
TZNAME:EST
DTSTART:20231105T060000
END:STANDARD
BEGIN:DAYLIGHT
TZOFFSETFROM:-0500
TZOFFSETTO:-0400
TZNAME:EDT
DTSTART:20240310T070000
END:DAYLIGHT
BEGIN:STANDARD
TZOFFSETFROM:-0400
TZOFFSETTO:-0500
TZNAME:EST
DTSTART:20241103T060000
END:STANDARD
END:VTIMEZONE
BEGIN:VEVENT
DTSTART;TZID=America/New_York:20230620T080000
DTEND;TZID=America/New_York:20230628T170000
DTSTAMP:20260422T220539
CREATED:20230412T053659Z
LAST-MODIFIED:20230412T054020Z
UID:10004820-1687248000-1687971600@liteworkevents.com
SUMMARY:Roxbury International Film Festival #RoxFilm
DESCRIPTION:Save the Date! \nThe Roxbury International Film Festival is the largest festival in New England that celebrates people of color. Over the course of 10 days the festival screens all genres of films\, holds workshops and panel discussions and offers filmmakers the opportunity to network with each other as well as audience members. Screenings take place at the Museum of Fine Arts\, Haley House Bakery Café\, Hibernian Hall\, and other sites in and around Roxbury.
URL:https://liteworkevents.com/event/roxbury-international-film-festival-roxfilm/
LOCATION:MA
CATEGORIES:Festival
ATTACH;FMTTYPE=image/jpeg:https://liteworkevents.com/wp-content/uploads/2023/04/Rox-Film.jpg
END:VEVENT
BEGIN:VEVENT
DTSTART;TZID=America/New_York:20230630T210000
DTEND;TZID=America/New_York:20230701T020000
DTSTAMP:20260422T220539
CREATED:20230516T161709Z
LAST-MODIFIED:20230516T161709Z
UID:10005109-1688158800-1688176800@liteworkevents.com
SUMMARY:All The Feels R&B Fest
DESCRIPTION:Boston’s biggest R&B Festival is back! After previously selling out with 2000+ in attendance in the Winter \, I hope your singing voices are ready because this upcoming DJ lineup for the Summer edition of this event will not disappoint! \nCitizens House of Blues Boston\n15 LANSDOWNE STREET BOSTON\, MA \nVIBES BY: TGIF\, WHERE’S NASTY\, SLICK VICK & SUPERSHAMSHBROZ
URL:https://liteworkevents.com/event/all-the-feels-rb-fest/
LOCATION:Citizens House of Blues Boston\, 15 Lansdowne Street\, Boston\, MA\, 02215\, United States
CATEGORIES:Evening Function,Music Concert
ATTACH;FMTTYPE=image/jpeg:https://liteworkevents.com/wp-content/uploads/2023/04/B88596FF-71A3-4E1E-A748-27FBE7FAA872.jpeg
END:VEVENT
BEGIN:VEVENT
DTSTART;TZID=America/New_York:20230630T220000
DTEND;TZID=America/New_York:20230701T020000
DTSTAMP:20260422T220539
CREATED:20230516T160506Z
LAST-MODIFIED:20230516T160506Z
UID:10005388-1688162400-1688176800@liteworkevents.com
SUMMARY:Reggae Fest Boston
DESCRIPTION:Get ready to dance and vibe\nto our DJ’s spinning the best\nin Dancehall\, Afrobeats\, Soca\, Reggae\, Amapiano & more! \nParty from 9PM to 2AM\nTickets are starting at $40\nThis event will sell out so get your tickets ASAP! \nABSOLUTELY NO REFUNDS!\nDRESS CODE\nNO FITTED OR SNAP BACK BASEBALL HATS!\nNo jogging suits\, durags\, tank tops\, white tees\, team jerseys\, basketball shorts\, athletic attire or sweat pants\, or hoodies worn over your head allowed. No slides shoes\, work boots or Timbs. \nSneakers are permitted.\nFor table reservations text\n718.926.3020
URL:https://liteworkevents.com/event/reggae-fest-boston-2/
LOCATION:Big Night Live\, 110 Causeway St\, Boston\, MA\, 02114\, United States
CATEGORIES:Evening Function,Music Concert
ATTACH;FMTTYPE=image/jpeg:https://liteworkevents.com/wp-content/uploads/2023/05/07176645-1129-4085-8486-8681756B664D.jpeg
END:VEVENT
BEGIN:VEVENT
DTSTART;TZID=America/New_York:20230702T130000
DTEND;TZID=America/New_York:20230702T190000
DTSTAMP:20260422T220539
CREATED:20230516T160949Z
LAST-MODIFIED:20230516T160950Z
UID:10005123-1688302800-1688324400@liteworkevents.com
SUMMARY:Afro City Afrobeats Brunch & Day Party
DESCRIPTION:Live DJs\nGames\nDrinks\nFood \nAfrobeats music! 🇿🇦 🇳🇬 🇬🇭 🇱🇷 🇸🇱 🇰🇪 🇪🇹\nEach and every Sunday!
URL:https://liteworkevents.com/event/afro-city-afrobeats-brunch-day-party/2023-07-02/
LOCATION:Guy Fieri’s Boston Kitchen + Bar\, 186 Tremont Street\, Boston\, MA\, 02111\, United States
CATEGORIES:Brunch Party,Day Party
ATTACH;FMTTYPE=image/jpeg:https://liteworkevents.com/wp-content/uploads/2023/04/4FB63D4F-8A3D-4FAF-BEA0-D4635EFE0C05.jpeg
END:VEVENT
END:VCALENDAR