BEGIN:VCALENDAR
VERSION:2.0
PRODID:-//LiteWork Events | Boston - ECPv6.15.17.1//NONSGML v1.0//EN
CALSCALE:GREGORIAN
METHOD:PUBLISH
X-ORIGINAL-URL:https://liteworkevents.com
X-WR-CALDESC:Events for LiteWork Events | Boston
REFRESH-INTERVAL;VALUE=DURATION:PT1H
X-Robots-Tag:noindex
X-PUBLISHED-TTL:PT1H
BEGIN:VTIMEZONE
TZID:America/New_York
BEGIN:DAYLIGHT
TZOFFSETFROM:-0500
TZOFFSETTO:-0400
TZNAME:EDT
DTSTART:20220313T070000
END:DAYLIGHT
BEGIN:STANDARD
TZOFFSETFROM:-0400
TZOFFSETTO:-0500
TZNAME:EST
DTSTART:20221106T060000
END:STANDARD
BEGIN:DAYLIGHT
TZOFFSETFROM:-0500
TZOFFSETTO:-0400
TZNAME:EDT
DTSTART:20230312T070000
END:DAYLIGHT
BEGIN:STANDARD
TZOFFSETFROM:-0400
TZOFFSETTO:-0500
TZNAME:EST
DTSTART:20231105T060000
END:STANDARD
BEGIN:DAYLIGHT
TZOFFSETFROM:-0500
TZOFFSETTO:-0400
TZNAME:EDT
DTSTART:20240310T070000
END:DAYLIGHT
BEGIN:STANDARD
TZOFFSETFROM:-0400
TZOFFSETTO:-0500
TZNAME:EST
DTSTART:20241103T060000
END:STANDARD
END:VTIMEZONE
BEGIN:VEVENT
DTSTART;TZID=America/New_York:20230726T080000
DTEND;TZID=America/New_York:20230801T170000
DTSTAMP:20260422T212203
CREATED:20230412T054945Z
LAST-MODIFIED:20230412T054945Z
UID:10004822-1690358400-1690909200@liteworkevents.com
SUMMARY:NAACP National Convention
DESCRIPTION:COUNTDOWN TO CONVENTION\nThe NAACP National Convention is an empowering and immersive experience held each year to celebrate our community’s collective power. The Convention attracts innovative change-makers\, thought-leaders\, entrepreneurs\, scholars\, entertainers\, influencers\, and creatives to network and exchange ideas. \nWe gather\, collectively\, to foster our intergenerational approach to advocacy. Main stage discussions\, luncheons\, and the experience hall connect activists\, allies\, and entrepreneurs from varying backgrounds who are all committed to the same thing: thriving together. \nSee you in Boston this July for the 114th NAACP National Convention!
URL:https://liteworkevents.com/event/naacp-national-convention/
LOCATION:MA
CATEGORIES:Conference or Convention
ATTACH;FMTTYPE=image/jpeg:https://liteworkevents.com/wp-content/uploads/2023/04/NAACP-National-Convention.jpg
END:VEVENT
END:VCALENDAR