BEGIN:VCALENDAR
VERSION:2.0
PRODID:-//LiteWork Events | Boston - ECPv6.15.17.1//NONSGML v1.0//EN
CALSCALE:GREGORIAN
METHOD:PUBLISH
X-ORIGINAL-URL:https://liteworkevents.com
X-WR-CALDESC:Events for LiteWork Events | Boston
REFRESH-INTERVAL;VALUE=DURATION:PT1H
X-Robots-Tag:noindex
X-PUBLISHED-TTL:PT1H
BEGIN:VTIMEZONE
TZID:America/New_York
BEGIN:DAYLIGHT
TZOFFSETFROM:-0500
TZOFFSETTO:-0400
TZNAME:EDT
DTSTART:20230312T070000
END:DAYLIGHT
BEGIN:STANDARD
TZOFFSETFROM:-0400
TZOFFSETTO:-0500
TZNAME:EST
DTSTART:20231105T060000
END:STANDARD
BEGIN:DAYLIGHT
TZOFFSETFROM:-0500
TZOFFSETTO:-0400
TZNAME:EDT
DTSTART:20240310T070000
END:DAYLIGHT
BEGIN:STANDARD
TZOFFSETFROM:-0400
TZOFFSETTO:-0500
TZNAME:EST
DTSTART:20241103T060000
END:STANDARD
BEGIN:DAYLIGHT
TZOFFSETFROM:-0500
TZOFFSETTO:-0400
TZNAME:EDT
DTSTART:20250309T070000
END:DAYLIGHT
BEGIN:STANDARD
TZOFFSETFROM:-0400
TZOFFSETTO:-0500
TZNAME:EST
DTSTART:20251102T060000
END:STANDARD
END:VTIMEZONE
BEGIN:VEVENT
DTSTART;TZID=America/New_York:20240411T183000
DTEND;TZID=America/New_York:20240411T210000
DTSTAMP:20260422T191756
CREATED:20240325T034913Z
LAST-MODIFIED:20240325T040405Z
UID:10005430-1712860200-1712869200@liteworkevents.com
SUMMARY:Network After Work
DESCRIPTION:Join the Boston Young Black Professionals (YBP) for their signature monthly mixer. Mix and mingle with other young professionals; make a friend\, business partner or connection\, or just unwind from work. This event is free and feel free to bring a friend!
URL:https://liteworkevents.com/event/network-after-work/
LOCATION:Savvor Lounge\, 180 Lincoln Street\, Boston\, Massachusetts\, 02111\, United States
CATEGORIES:After Work
ATTACH;FMTTYPE=image/png:https://liteworkevents.com/wp-content/uploads/2024/03/BostonYBP_4.6.2024.png
END:VEVENT
BEGIN:VEVENT
DTSTART;TZID=America/New_York:20240412T080000
DTEND;TZID=America/New_York:20240413T170000
DTSTAMP:20260422T191756
CREATED:20240325T061812Z
LAST-MODIFIED:20240325T061825Z
UID:10005821-1712908800-1713027600@liteworkevents.com
SUMMARY:13th Annual MIT Africa Innovate Conference
DESCRIPTION:The 13th edition of the MIT Africa Innovate Conference\, themed The Promise of Africa: Path from Growth to Inclusive Prosperity\, aims to shift conversations towards building robust institutions and frameworks that propel the continent towards sustainable development and improvements in living standards for its people. \nThe MIT Sloan Africa Innovate Conference 2024 will be held on April 12th and 13th\, 2024\, at the MIT Media Lab. There will be a celebration of African music after the conference\, from 9 pm until midnight on April 13th.
URL:https://liteworkevents.com/event/13th-annual-mit-africa-innovate-conference/
LOCATION:MIT E14 – Media Lab\, 75 Amherst St\, Cambridge\, MA\, 02142\, United States
ATTACH;FMTTYPE=image/png:https://liteworkevents.com/wp-content/uploads/2024/03/MIT-Africa-Innovate-Conference_4.12.2024.png
END:VEVENT
BEGIN:VEVENT
DTSTART;TZID=America/New_York:20240412T190000
DTEND;TZID=America/New_York:20240413T190000
DTSTAMP:20260422T191756
CREATED:20240325T054947Z
LAST-MODIFIED:20240325T054948Z
UID:10005811-1712948400-1713034800@liteworkevents.com
SUMMARY:Vibe Dining Fridays at HUE
DESCRIPTION:#HUEKNOWTHEVIBE \nFeaturing DJ Saucy King each and every Friday. \nFor reservations\, visit: https://www.opentable.com/r/hue-boston
URL:https://liteworkevents.com/event/vibe-dining-fridays-at-hue/2024-04-12/
LOCATION:Hue Boston\, 90 Exeter Street\, Boston\, MA\, United States
ATTACH;FMTTYPE=image/jpeg:https://liteworkevents.com/wp-content/uploads/2024/03/Vibe-Dining-Fridays-at-HUE-Boston.jpg
END:VEVENT
BEGIN:VEVENT
DTSTART;TZID=America/New_York:20240413T173000
DTEND;TZID=America/New_York:20240413T213000
DTSTAMP:20260422T191756
CREATED:20240325T065114Z
LAST-MODIFIED:20240325T065132Z
UID:10005822-1713029400-1713043800@liteworkevents.com
SUMMARY:Step Fest New England\, Hosted by Iota Gamma AKAs
DESCRIPTION:New England StepFest is a signature event hosted by the Iota Gamma chapter of Alpha Kappa Alpha Sorority\, Incorporated at Northeastern University since 1974. This event showcases the rich history and talent of the Black Greek letter organizations in the National Pan-Hellenic Council (NPHC) as they compete against each other in a step competition. \nTicket pricing:\nGeneral admission: $10\nNortheastern Students/Staff\, and Youth under 5: Free with ticket RSVP \n*Northeastern Students & Staff*\nTo claim your free ticket\, select a ticket for the public then log in with your northeastern credentials. \nSecure your tickets before they’re all gone using the link in our bio! \nWe can’t wait to see you on Saturday\, April 13th for an unforgettable night filled with nostalgia! ✨🩷💚 #NewEnglandStepFest2024
URL:https://liteworkevents.com/event/step-fest-new-england-hosted-by-iota-gamma-akas/
LOCATION:Northeastern University Blackman Auditorium\, 342 Huntington Ave\, Boston\, MA\, 02115\, United States
ATTACH;FMTTYPE=image/png:https://liteworkevents.com/wp-content/uploads/2024/03/Step-Fest_4.13.2024.png
END:VEVENT
BEGIN:VEVENT
DTSTART;TZID=America/New_York:20240414T213000
DTEND;TZID=America/New_York:20240415T020000
DTSTAMP:20260422T191756
CREATED:20240325T040204Z
LAST-MODIFIED:20240325T040503Z
UID:10005805-1713130200-1713146400@liteworkevents.com
SUMMARY:Silk - All RnB Experience
DESCRIPTION:BOSTON’S PREMIER R&B PARTY\nThe once intimate\, feel-good event has evolved into Boston’s premier R&B party\, attracting hundreds of guests each month and thousands each quarter to the larger R&B experience. The goal is to turn what was once “just a party” to the largest celebration of R&B music in New England!
URL:https://liteworkevents.com/event/silk-all-rb-experience-2/
LOCATION:Big Night Live\, 110 Causeway St\, Boston\, MA\, 02114\, United States
CATEGORIES:Evening Function,Party
ATTACH;FMTTYPE=image/png:https://liteworkevents.com/wp-content/uploads/2024/03/Silk_4.14.2024.png
END:VEVENT
END:VCALENDAR