BEGIN:VCALENDAR
VERSION:2.0
PRODID:-//LiteWork Events | Boston - ECPv6.15.17.1//NONSGML v1.0//EN
CALSCALE:GREGORIAN
METHOD:PUBLISH
X-WR-CALNAME:LiteWork Events | Boston
X-ORIGINAL-URL:https://liteworkevents.com
X-WR-CALDESC:Events for LiteWork Events | Boston
REFRESH-INTERVAL;VALUE=DURATION:PT1H
X-Robots-Tag:noindex
X-PUBLISHED-TTL:PT1H
BEGIN:VTIMEZONE
TZID:America/New_York
BEGIN:DAYLIGHT
TZOFFSETFROM:-0500
TZOFFSETTO:-0400
TZNAME:EDT
DTSTART:20230312T070000
END:DAYLIGHT
BEGIN:STANDARD
TZOFFSETFROM:-0400
TZOFFSETTO:-0500
TZNAME:EST
DTSTART:20231105T060000
END:STANDARD
BEGIN:DAYLIGHT
TZOFFSETFROM:-0500
TZOFFSETTO:-0400
TZNAME:EDT
DTSTART:20240310T070000
END:DAYLIGHT
BEGIN:STANDARD
TZOFFSETFROM:-0400
TZOFFSETTO:-0500
TZNAME:EST
DTSTART:20241103T060000
END:STANDARD
BEGIN:DAYLIGHT
TZOFFSETFROM:-0500
TZOFFSETTO:-0400
TZNAME:EDT
DTSTART:20250309T070000
END:DAYLIGHT
BEGIN:STANDARD
TZOFFSETFROM:-0400
TZOFFSETTO:-0500
TZNAME:EST
DTSTART:20251102T060000
END:STANDARD
END:VTIMEZONE
BEGIN:VEVENT
DTSTART;TZID=America/New_York:20240414T213000
DTEND;TZID=America/New_York:20240415T020000
DTSTAMP:20260422T212455
CREATED:20240325T040204Z
LAST-MODIFIED:20240325T040503Z
UID:10005805-1713130200-1713146400@liteworkevents.com
SUMMARY:Silk - All RnB Experience
DESCRIPTION:BOSTON’S PREMIER R&B PARTY\nThe once intimate\, feel-good event has evolved into Boston’s premier R&B party\, attracting hundreds of guests each month and thousands each quarter to the larger R&B experience. The goal is to turn what was once “just a party” to the largest celebration of R&B music in New England!
URL:https://liteworkevents.com/event/silk-all-rb-experience-2/
LOCATION:Big Night Live\, 110 Causeway St\, Boston\, MA\, 02114\, United States
CATEGORIES:Evening Function,Party
ATTACH;FMTTYPE=image/png:https://liteworkevents.com/wp-content/uploads/2024/03/Silk_4.14.2024.png
END:VEVENT
BEGIN:VEVENT
DTSTART;TZID=America/New_York:20240419T190000
DTEND;TZID=America/New_York:20240420T190000
DTSTAMP:20260422T212455
CREATED:20240325T054947Z
LAST-MODIFIED:20240325T054948Z
UID:10005812-1713553200-1713639600@liteworkevents.com
SUMMARY:Vibe Dining Fridays at HUE
DESCRIPTION:#HUEKNOWTHEVIBE \nFeaturing DJ Saucy King each and every Friday. \nFor reservations\, visit: https://www.opentable.com/r/hue-boston
URL:https://liteworkevents.com/event/vibe-dining-fridays-at-hue/2024-04-19/
LOCATION:Hue Boston\, 90 Exeter Street\, Boston\, MA\, United States
ATTACH;FMTTYPE=image/jpeg:https://liteworkevents.com/wp-content/uploads/2024/03/Vibe-Dining-Fridays-at-HUE-Boston.jpg
END:VEVENT
BEGIN:VEVENT
DTSTART;TZID=America/New_York:20240419T220000
DTEND;TZID=America/New_York:20240420T020000
DTSTAMP:20260422T212455
CREATED:20240325T034943Z
LAST-MODIFIED:20240325T040542Z
UID:10005431-1713564000-1713578400@liteworkevents.com
SUMMARY:Slow Gemz
DESCRIPTION:Welcome to SLOW GEMZ: All Genres \n#AsLongAsTheTempoIsRIght \nHead to CHINATOWN COUNTRY CLUB (SHOJO) as these organizers play your favorite slow tempo tunes… they will be covering all genres so come prepared to DANCE & have FUN! \nGenres: R&B\, Hip-Hop\, Afrobeats\, Dancehall\, Reggae\, Soca\, Kompa etc \nMusic By: Mez\, Stamz & Slick Vick \nSee y’all soon \n💎💎💎
URL:https://liteworkevents.com/event/slow-gemz/
LOCATION:Chinatown Country Club\, 9a Tyler Street\, Boston\, MA\, United States
CATEGORIES:Evening Function,Party
ATTACH;FMTTYPE=image/png:https://liteworkevents.com/wp-content/uploads/2024/03/Slow-Gemz_4.19.2024.png
END:VEVENT
BEGIN:VEVENT
DTSTART;TZID=America/New_York:20240420T100000
DTEND;TZID=America/New_York:20240420T170000
DTSTAMP:20260422T212455
CREATED:20240325T065226Z
LAST-MODIFIED:20240325T065309Z
UID:10005823-1713607200-1713632400@liteworkevents.com
SUMMARY:Boston Comics in Color Festival
DESCRIPTION:The Boston Comics in Color Festival [BCICF] is a family-friendly event for all ages focusing on creators of color and stories by and about people of color. This event will take place in person* the Reggie Lewis Track and Athletic Center on the campus of Roxbury Community College (RCC) and is the first of its kind in the city of Boston. The event will include event headliner(s); special guest speakers; panel discussions with working artist and writers\, workshops\, live art demos\, as well as an artist alley for comic creators to share and sell their books\, materials\, artwork. \nThe Boston Comics in Color Festival is the culmination of a movement co founded by two Boston-based comic creators\, Barrington Edwards and Cagen Luse. \n​In 2013 they connected with one another over a mutual love of comics while in an art exhibition together. In 2015 they traveled to the Schomburg Library’s Black Comic Book Festival and were both blown away by the sight of hundreds of people of color enjoying and creating comics. It was a paradigm shift to even realize that places like this exist. \nOn the ride back to home they both felt that Boston needs to have a space like this that not only celebrates stories by creators of color but is a space for Blerds to be themselves and connect with one another.
URL:https://liteworkevents.com/event/boston-comics-in-color-festival-2/
LOCATION:Reggie Lewis Track and Athletic Center\, 1350 Tremont St\, Boston\, MA\, 02120\, United States
ATTACH;FMTTYPE=image/png:https://liteworkevents.com/wp-content/uploads/2024/03/Boston-Comics-in-Color_4.20.2024.png
END:VEVENT
END:VCALENDAR