BEGIN:VCALENDAR
VERSION:2.0
PRODID:-//LiteWork Events | Boston - ECPv6.15.17.1//NONSGML v1.0//EN
CALSCALE:GREGORIAN
METHOD:PUBLISH
X-ORIGINAL-URL:https://liteworkevents.com
X-WR-CALDESC:Events for LiteWork Events | Boston
REFRESH-INTERVAL;VALUE=DURATION:PT1H
X-Robots-Tag:noindex
X-PUBLISHED-TTL:PT1H
BEGIN:VTIMEZONE
TZID:America/New_York
BEGIN:DAYLIGHT
TZOFFSETFROM:-0500
TZOFFSETTO:-0400
TZNAME:EDT
DTSTART:20220313T070000
END:DAYLIGHT
BEGIN:STANDARD
TZOFFSETFROM:-0400
TZOFFSETTO:-0500
TZNAME:EST
DTSTART:20221106T060000
END:STANDARD
BEGIN:DAYLIGHT
TZOFFSETFROM:-0500
TZOFFSETTO:-0400
TZNAME:EDT
DTSTART:20230312T070000
END:DAYLIGHT
BEGIN:STANDARD
TZOFFSETFROM:-0400
TZOFFSETTO:-0500
TZNAME:EST
DTSTART:20231105T060000
END:STANDARD
BEGIN:DAYLIGHT
TZOFFSETFROM:-0500
TZOFFSETTO:-0400
TZNAME:EDT
DTSTART:20240310T070000
END:DAYLIGHT
BEGIN:STANDARD
TZOFFSETFROM:-0400
TZOFFSETTO:-0500
TZNAME:EST
DTSTART:20241103T060000
END:STANDARD
END:VTIMEZONE
BEGIN:VEVENT
DTSTART;TZID=America/New_York:20230805T200000
DTEND;TZID=America/New_York:20230806T000000
DTSTAMP:20260422T230254
CREATED:20230516T161950Z
LAST-MODIFIED:20230516T161950Z
UID:10005107-1691265600-1691280000@liteworkevents.com
SUMMARY:The Ultimate All White Peepin Glow Boat Cruise 2023 Experience
DESCRIPTION:The Ultimate All White Peepin Glow Boat Cruise Experience \nSailing the High Seas in Elegance & Style\nSaturday August 5\, 2023\nDress Code: ALL WHITE\nBoarding Time: 8:00pm Sharp\nDeparts at 9:00pm | 21 Plus – ID needed to board \nAboard the Luxurious MV Freedom\nLocated at 60 Rowes Wharf\, Boston Mass\n* Boat Ride is Rain or Shine * No Refunds * All Sales Final
URL:https://liteworkevents.com/event/the-ultimate-all-white-peepin-glow-boat-cruise-2023-experience/
LOCATION:60 Rowes Wharf\, 60 Rowes Wharf\, Boston\, MA\, 02210\, United States
CATEGORIES:Evening Function
ATTACH;FMTTYPE=image/jpeg:https://liteworkevents.com/wp-content/uploads/2023/04/DD80BD28-A5BE-455F-AC18-5BDD779934B1.jpeg
END:VEVENT
BEGIN:VEVENT
DTSTART;TZID=America/New_York:20230521T180000
DTEND;TZID=America/New_York:20230521T220000
DTSTAMP:20260422T230254
CREATED:20230323T030410Z
LAST-MODIFIED:20230323T045614Z
UID:10004272-1684692000-1684706400@liteworkevents.com
SUMMARY:BIG PEOPLE BOATRIDE
DESCRIPTION:Specialist and friends brings to you\nBig People Boatride\nAlso celebrating (Ghetto Hype and Don Knotts offical birthstrong\nSunday May 21st 2023\n60 Rowes Wharf\nBoarding Time : 6pm / Sailing Time : 7pm\n21+ event!! \nFood Catered By : Trini Extreme Cusine\nMusic by : Boston Best!!\nParty RATED (Mature Vibes)
URL:https://liteworkevents.com/event/big-people-boatride/
LOCATION:60 Rowes Wharf\, 60 Rowes Wharf\, Boston\, MA\, 02210\, United States
ATTACH;FMTTYPE=image/jpeg:https://liteworkevents.com/wp-content/uploads/2023/03/085CBED4-1C57-42AD-A6FE-04C2C6E82842.jpeg
END:VEVENT
END:VCALENDAR