BEGIN:VCALENDAR
VERSION:2.0
PRODID:-//LiteWork Events | Boston - ECPv6.15.17.1//NONSGML v1.0//EN
CALSCALE:GREGORIAN
METHOD:PUBLISH
X-ORIGINAL-URL:https://liteworkevents.com
X-WR-CALDESC:Events for LiteWork Events | Boston
REFRESH-INTERVAL;VALUE=DURATION:PT1H
X-Robots-Tag:noindex
X-PUBLISHED-TTL:PT1H
BEGIN:VTIMEZONE
TZID:America/New_York
BEGIN:DAYLIGHT
TZOFFSETFROM:-0500
TZOFFSETTO:-0400
TZNAME:EDT
DTSTART:20240310T070000
END:DAYLIGHT
BEGIN:STANDARD
TZOFFSETFROM:-0400
TZOFFSETTO:-0500
TZNAME:EST
DTSTART:20241103T060000
END:STANDARD
BEGIN:DAYLIGHT
TZOFFSETFROM:-0500
TZOFFSETTO:-0400
TZNAME:EDT
DTSTART:20250309T070000
END:DAYLIGHT
BEGIN:STANDARD
TZOFFSETFROM:-0400
TZOFFSETTO:-0500
TZNAME:EST
DTSTART:20251102T060000
END:STANDARD
BEGIN:DAYLIGHT
TZOFFSETFROM:-0500
TZOFFSETTO:-0400
TZNAME:EDT
DTSTART:20260308T070000
END:DAYLIGHT
BEGIN:STANDARD
TZOFFSETFROM:-0400
TZOFFSETTO:-0500
TZNAME:EST
DTSTART:20261101T060000
END:STANDARD
END:VTIMEZONE
BEGIN:VEVENT
DTSTART;TZID=America/New_York:20251218T180000
DTEND;TZID=America/New_York:20251218T220000
DTSTAMP:20260422T222435
CREATED:20251206T204534Z
LAST-MODIFIED:20251206T204535Z
UID:10005976-1766080800-1766095200@liteworkevents.com
SUMMARY:
DESCRIPTION:The Industry Exchange\nJoin us for the final installment of The Industry Exchange—a monthly networking series designed for Boston’s professionals who are ready to make meaningful connections across industries. \nHappening every third Thursday of the month\, The Industry Exchange creates space for authentic conversations\, new collaborations\, and opportunities that extend far beyond the evening. With a curated guest list of ambitious professionals\, you’ll find yourself among peers who value both career growth and community impact. \nWhether you’re looking to expand your professional network\, discover new partnerships\, or simply connect with like-minded peers\, The Industry Exchange is where Boston’s distinguished crowd comes together. \nWhen: Thursday\, December 18th\, 2025 from 6-10pm \nWhere: Savin Bar & Kitchen\, 116 Savin Hill Ave\, Dorchester\, MA \n✨ This month we will partner with the Greater Boston NPHC and the Urban League of Eastern Massachusetts – Young Professionals. \nIn lieu of a cover charge\, we will be collecting donations for the St. Mary’s Center for Women and Children in Dorchester\, MA. Donations we plan to collect include: \n\nFull-size toiletries: including shampoo\, conditioner\, body wash\, lotion\, toothpaste and toothbrushes\nGift cards of any denomination to Stop & Shop\, Shaw’s/Star Market\, Visa\, Mastercard\, and Target\n\nClick here to RSVP!\nMore about our collaborators: \nThe Greater Boston National Pan-Hellenic Council (NPHC) represents the collective presence of the nine historically Black fraternities and sororities across the region. Formed in 1971\, the Council began as an informal coalition focused on strengthening community engagement in Roxbury and increasing HBCU enrollment among Boston high school students. Aligned with the mission of the National Pan-Hellenic Council\, the Greater Boston NPHC promotes unity\, purposeful action\, and collaborative leadership among its member organizations. The Council also serves as a supportive body for the Undergraduate NPHC at Northeastern University and for graduate chapters across the region on matters of shared concern. \nYP-ULEM is a chapter of the National Urban League Young Professionals. This chapter is one of over fifty nationwide that supports the Urban League Movement through volunteerism\, philanthropy\, and membership development. YP-ULEM offers professional development\, networking\, and volunteer opportunities. Since its inception\, YP-ULEM has hosted several professional and social programs ranging from the Homelessness and Hunger Awareness Initiative and Public Health Seminars to Political Forums and Financial Literacy Education. All of our professional and service programs are open to all people. \n. \nReserve your spot today and be part of the conversations shaping tomorrow. \n\n\n\n\nCONTENT RELEASE: Participants agree that the organizers shall have the right to photograph\, record or broadcast their likeness\, and that such likeness may be captured during this event for the purposes of promotion and related business activity.
URL:https://liteworkevents.com/event/36060/
LOCATION:Savin Bar and Kitchen\, 116 Savin Hill Ave\, Dorchester\, MA\, 02125\, United States
CATEGORIES:After Work
ATTACH;FMTTYPE=image/png:https://liteworkevents.com/wp-content/uploads/2025/12/Industry-Exchange_Dec-18_NPHC-and-YP-ULEM-updated.png
END:VEVENT
BEGIN:VEVENT
DTSTART;TZID=America/New_York:20251120T180000
DTEND;TZID=America/New_York:20251120T220000
DTSTAMP:20260422T222435
CREATED:20250910T055727Z
LAST-MODIFIED:20250910T060135Z
UID:10005953-1763661600-1763676000@liteworkevents.com
SUMMARY:The Industry Exchange with MBLA
DESCRIPTION:Join us for The Industry Exchange—a monthly networking series designed for Boston’s professionals who are ready to make meaningful connections across industries. \nHappening every third Thursday of the month\, The Industry Exchange creates space for authentic conversations\, new collaborations\, and opportunities that extend far beyond the evening. With a curated guest list of ambitious professionals\, you’ll find yourself among peers who value both career growth and community impact. \nWhether you’re looking to expand your professional network\, discover new partnerships\, or simply connect with like-minded peers\, The Industry Exchange is where Boston’s distinguished crowd comes together. \nWhen: Thursday\, September 18th\, 2025 from 6-10pm \nWhere: Savin Bar & Kitchen\, 116 Savin Hill Ave\, Dorchester\, MA \n✨ This month we will partner with the National Soceity of Black Engineers (NSBE) to amplify connections and bring you closer to leaders shaping the culture and the future of our city. \nThe National Society of Black Engineers (NSBE) Boston Professionals\, is a 501(C)(3) non-profit organization dedicated to the academic & professional success of Black/ African American engineering students and professionals. Founded in 1988\, NSBE Boston offers professional development & career advancement opportunities to its members. \nReserve your spot today and be part of the conversations shaping tomorrow. \n\n			\n			\n\n\n\n\nCONTENT RELEASE: Participants agree that the organizers shall have the right to photograph\, record or broadcast their likeness\, and that such likeness may be captured during this event for the purposes of promotion and related business activity.
URL:https://liteworkevents.com/event/the-industry-exchange-with-mbla/
LOCATION:Savin Bar and Kitchen\, 116 Savin Hill Ave\, Dorchester\, MA\, 02125\, United States
CATEGORIES:After Work
ATTACH;FMTTYPE=image/png:https://liteworkevents.com/wp-content/uploads/2025/09/Industry-Exchange_Nov-20_MBLA.png
END:VEVENT
BEGIN:VEVENT
DTSTART;TZID=America/New_York:20251016T180000
DTEND;TZID=America/New_York:20251016T220000
DTSTAMP:20260422T222435
CREATED:20250910T055526Z
LAST-MODIFIED:20250910T060041Z
UID:10005952-1760637600-1760652000@liteworkevents.com
SUMMARY:The Industry Exchange with NSBE
DESCRIPTION:Join us for The Industry Exchange—a monthly networking series designed for Boston’s professionals who are ready to make meaningful connections across industries. \nHappening every third Thursday of the month\, The Industry Exchange creates space for authentic conversations\, new collaborations\, and opportunities that extend far beyond the evening. With a curated guest list of ambitious professionals\, you’ll find yourself among peers who value both career growth and community impact. \nWhether you’re looking to expand your professional network\, discover new partnerships\, or simply connect with like-minded peers\, The Industry Exchange is where Boston’s distinguished crowd comes together. \nWhen: Thursday\, September 18th\, 2025 from 6-10pm \nWhere: Savin Bar & Kitchen\, 116 Savin Hill Ave\, Dorchester\, MA \n✨ This month we will partner with the National Soceity of Black Engineers (NSBE) to amplify connections and bring you closer to leaders shaping the culture and the future of our city. \nThe National Society of Black Engineers (NSBE) Boston Professionals\, is a 501(C)(3) non-profit organization dedicated to the academic & professional success of Black/ African American engineering students and professionals. Founded in 1988\, NSBE Boston offers professional development & career advancement opportunities to its members. \nReserve your spot today and be part of the conversations shaping tomorrow. \n\n			\n			\n\n\n\n\nCONTENT RELEASE: Participants agree that the organizers shall have the right to photograph\, record or broadcast their likeness\, and that such likeness may be captured during this event for the purposes of promotion and related business activity.
URL:https://liteworkevents.com/event/the-industry-exchange-with-nsbe/
LOCATION:Savin Bar and Kitchen\, 116 Savin Hill Ave\, Dorchester\, MA\, 02125\, United States
CATEGORIES:After Work
ATTACH;FMTTYPE=image/png:https://liteworkevents.com/wp-content/uploads/2025/09/Industry-Exchange_Oct-16_NSBE.png
END:VEVENT
BEGIN:VEVENT
DTSTART;TZID=America/New_York:20250918T180000
DTEND;TZID=America/New_York:20250918T220000
DTSTAMP:20260422T222435
CREATED:20250910T054822Z
LAST-MODIFIED:20250910T055932Z
UID:10005951-1758218400-1758232800@liteworkevents.com
SUMMARY:The Industry Exchange with NBMBAA
DESCRIPTION:Join us for The Industry Exchange—a monthly networking series designed for Boston’s professionals who are ready to make meaningful connections across industries. \nHappening every third Thursday of the month\, The Industry Exchange creates space for authentic conversations\, new collaborations\, and opportunities that extend far beyond the evening. With a curated guest list of ambitious professionals\, you’ll find yourself among peers who value both career growth and community impact. \nWhether you’re looking to expand your professional network\, discover new partnerships\, or simply connect with like-minded peers\, The Industry Exchange is where Boston’s distinguished crowd comes together. \nWhen: Thursday\, September 18th\, 2025 from 6-10pm \nWhere: Savin Bar & Kitchen\, 116 Savin Hill Ave\, Dorchester\, MA \n✨ This month we will partner with the National Black MBA Association to amplify connections and bring you closer to leaders shaping the culture and the future of our city. NBMBAA fosters economic equity and career advancement for historically underrepresented professionals and aspiring leaders through transformative educational opportunities\, robust professional networks\, and actionable advocacy for wealth creation and inclusion. \nReserve your spot today and be part of the conversations shaping tomorrow. \n\n			\n			 \n\n\n\n\nCONTENT RELEASE: Participants agree that the organizers shall have the right to photograph\, record or broadcast their likeness\, and that such likeness may be captured during this event for the purposes of promotion and related business activity.
URL:https://liteworkevents.com/event/the-industry-exchange-with-nbmbaa/
LOCATION:Savin Bar and Kitchen\, 116 Savin Hill Ave\, Dorchester\, MA\, 02125\, United States
CATEGORIES:After Work
ATTACH;FMTTYPE=image/png:https://liteworkevents.com/wp-content/uploads/2025/09/Industry-Exchange_Sept-18_NBMBAA.png
END:VEVENT
END:VCALENDAR